BEGIN:VCALENDAR
PRODID:PlannerXE123
VERSION:2.0
CALSCALE:GREGORIAN
METHOD:PUBLISH
BEGIN:VEVENT
DTSTART:20180913T190000Z
DTEND:20180913T200000Z
DTSTAMP:20260425T082923Z
UID:(mannam.cathms.kr_24996)
CREATED:20260425T082923Z
DESCRIPTION:저녁미사가 있습니다.^^\n\n<a href="http://mannam.cathms.kr/xe/board_bROv58/24996?iCal=ics_event&document_srl=24996">원본일정</a>
LOCATION:
SEQUENCE:1
STATUS:CONFIRMED
SUMMARY:저녁미사
TRANSP:TRANSPARENT
END:VEVENT
END:VCALENDAR
