BEGIN:VCALENDAR
PRODID:PlannerXE123
VERSION:2.0
CALSCALE:GREGORIAN
METHOD:PUBLISH
BEGIN:VEVENT
DTSTART:20170702T170000Z
DTEND:20170702T180000Z
DTSTAMP:20260425T125215Z
UID:(mannam.cathms.kr_20905)
CREATED:20260425T125215Z
DESCRIPTION:사목협의회 임원들의 월모임이 있습니다\n\n<a href="http://mannam.cathms.kr/xe/board_bROv58/20905?iCal=ics_event&document_srl=20905">원본일정</a>
LOCATION:
SEQUENCE:1
STATUS:CONFIRMED
SUMMARY:사목협의회
TRANSP:TRANSPARENT
END:VEVENT
END:VCALENDAR
