BEGIN:VCALENDAR
PRODID:PlannerXE123
VERSION:2.0
CALSCALE:GREGORIAN
METHOD:PUBLISH
BEGIN:VEVENT
DTSTART:20170720T190000Z
DTEND:20170720T200000Z
DTSTAMP:20260424T020758Z
UID:(mannam.cathms.kr_20842)
CREATED:20260424T020758Z
DESCRIPTION:저녁미사가 있습니다\n\n<a href="http://mannam.cathms.kr/xe/board_bROv58/20842?iCal=ics_event&document_srl=20842">원본일정</a>
LOCATION:
SEQUENCE:1
STATUS:CONFIRMED
SUMMARY:저녁 미사
TRANSP:TRANSPARENT
END:VEVENT
END:VCALENDAR
